BEGIN:VCALENDAR
VERSION:2.0
PRODID:-//ChamberMaster//Event Calendar 2.0//EN
METHOD:PUBLISH
X-PUBLISHED-TTL:P1H
REFRESH-INTERVAL:P1H
CALSCALE:GREGORIAN
BEGIN:VTIMEZONE
TZID:America/New_York
BEGIN:DAYLIGHT
RRULE:FREQ=YEARLY;BYMONTH=3;BYDAY=2SU
DTSTART:20070101T000000
TZOFFSETFROM:-0500
TZOFFSETTO:-0400
TZNAME:Eastern Daylight Time
END:DAYLIGHT
BEGIN:STANDARD
RRULE:FREQ=YEARLY;BYMONTH=11;BYDAY=1SU
DTSTART:20070101T000000
TZOFFSETFROM:-0400
TZOFFSETTO:-0500
TZNAME:Eastern Standard Time
END:STANDARD
END:VTIMEZONE
BEGIN:VEVENT
DTSTART;VALUE=DATE:20260619
DTEND;VALUE=DATE:20260620
TRANSP:TRANSPARENT
X-MICROSOFT-CDO-ALLDAYEVENT:TRUE
SUMMARY:39th Annual Chamber Golf Scramble
DESCRIPTION:Why be stuck in the office... when you could be soaking up sunshine on the green?\n\nJoin us Friday\, June 19th\, for the 39th Annual Golf Scramble at the stunning Doe Valley Golf Course\, Meade County’s beloved 18-hole gem that’s groomed to perfection and full of charm.\n\nThis isn’t just golf—it’s a full-blown Friday escape. We’re talking:\nTeam play with bragging rights up for grabs\nFun games at every turn (with all proceeds going to a great cause!)\nA mobile bar to keep spirits high\nAnd\, of course\, the legendary Roadkill Café\, featuring Nathan Beavin’s famous grilled bologna sammich—the sandwich dreams are made of.\nSo go ahead—cancel that Zoom call. Grab your clubs\, rally your team\, and let’s make Friday the best “workday” of the week.\nBecause the only spreadsheet you should be staring at… is a scorecard.
X-ALT-DESC;FMTTYPE=text/html:Why be stuck in the office... when you could be soaking up sunshine on the green?\n\nJoin us Friday\, June 19th\, for the 39th Annual Golf Scramble at the stunning Doe Valley Golf Course\, Meade County’s beloved 18-hole gem that’s groomed to perfection and full of charm.\n\nThis isn’t just golf—it’s a full-blown Friday escape. We’re talking:\nTeam play with bragging rights up for grabs\nFun games at every turn (with all proceeds going to a great cause!)\nA mobile bar to keep spirits high\nAnd\, of course\, the legendary Roadkill Café\, featuring Nathan Beavin’s famous grilled bologna sammich—the sandwich dreams are made of.\nSo go ahead—cancel that Zoom call. Grab your clubs\, rally your team\, and let’s make Friday the best “workday” of the week.\nBecause the only spreadsheet you should be staring at… is a scorecard.
LOCATION:540 Valley Greens Rd Brandenburg KY 40108
UID:e.3105.1450877
SEQUENCE:3
DTSTAMP:20260425T131715Z
URL:https://meadecountyareachamber.growthzoneapp.com/eventcalendar/Details/39th-annual-chamber-golf-scramble-1718526?sourceTypeId=Hub
END:VEVENT
END:VCALENDAR
